BEGIN:VCALENDAR
VERSION:2.0
PRODID:-//eventon.com NONSGML v1.0//EN
CALSCALE:GREGORIAN
METHOD:PUBLISH
BEGIN:VEVENT
UID:69e75a26c23d6
DTSTAMP:20260421T110614Z
DTSTART:20241019T160000Z
DTEND:20241020T020000Z
LOCATION:PIFCider 205 W Chisholm St\,  Alpena\,  MI 49707
SUMMARY:PIF Cider 2nd Annual Wassail Anniversary
DESCRIPTION:To wassail is to: drink plentiful amounts of alcohol and enjoy 
 oneself with others in a noisy\,  lively way. We opened just about 2 years 
 ago on this day. Come hear music and dance a jig\,  drink cider from years 
 of pressing\,  wear something appley for special discounts\,  and drink[..]
 \nhttps://www.visitalpena.com/events/2nd-annual-wassail-anniversary/
URL:https://www.visitalpena.com/events/2nd-annual-wassail-anniversary/
END:VEVENT
END:VCALENDAR