BEGIN:VCALENDAR
VERSION:2.0
PRODID:-//eventon.com NONSGML v1.0//EN
CALSCALE:GREGORIAN
METHOD:PUBLISH
BEGIN:VEVENT
UID:69e9f392c6f93
DTSTAMP:20260423T102522Z
DTSTART:20241108T220000Z
DTEND:20241108T233000Z
LOCATION:Thunder Bay Arts Gallery 127 W Chisholm Street\,  Alpena
SUMMARY:Thunder Bay Arts Council Featured Artists for November and December 2024--Mark & Lucia Behmer (Reception Friday\,  November 8\,  from 5-6:30 p.m.)
DESCRIPTION:Thunder Bay Arts Council&#8217;s Featured Artists for November 
 and December 2024 will be Mark &amp; Lucia Behmer. Mark is an oil painter\,
   and Lucia designs and creates jewelry. Visit the TBA Gallery at 127 W Chi
 sholm Street\,  downtown Alpena\,  to see their unique creations as well as
  those from 20[..]\nhttps://www.visitalpena.com/events/thunder-bay-arts-cou
 ncil-featured-artists-for-november-and-december-2024-mark-lucia-behmer-rece
 ption-friday-november-8-from-5-630-p-m/
URL:https://www.visitalpena.com/events/thunder-bay-arts-council-featured-artists-for-november-and-december-2024-mark-lucia-behmer-reception-friday-november-8-from-5-630-p-m/
END:VEVENT
END:VCALENDAR