BEGIN:VCALENDAR
VERSION:2.0
PRODID:-//eventon.com NONSGML v1.0//EN
CALSCALE:GREGORIAN
METHOD:PUBLISH
BEGIN:VEVENT
UID:69ecbf5ce0563
DTSTAMP:20260425T131924Z
DTSTART:20250321T220000Z
DTEND:20250322T035900Z
LOCATION:Friendly Foodees 108 N. 3rd
SUMMARY:Live Music at Friendly Foodees
DESCRIPTION:Alex Kasznel &amp; the Board of Directors will be coming thru o
 n tour with special guest local Thomas Gun (of Murder Party!/HASRD/The Hubi
 es) at Friendly Foodees in Alpena\,  MI. 6pm no cover!\nhttps://www.visital
 pena.com/events/live-music-at-friendly-foodees/
URL:https://www.visitalpena.com/events/live-music-at-friendly-foodees/
END:VEVENT
END:VCALENDAR