BEGIN:VCALENDAR
VERSION:2.0
PRODID:-//eventon.com NONSGML v1.0//EN
CALSCALE:GREGORIAN
METHOD:PUBLISH
BEGIN:VEVENT
UID:69e9f3bb5d842
DTSTAMP:20260423T102603Z
DTSTART:20250405T170000Z
DTEND:20250405T180000Z
LOCATION:Alpena County George N. Fletcher Public Library 211 N. 1st Ave.
SUMMARY:Tween Puzzle Challenge
DESCRIPTION:Saturday\,  April 5\,  1pm Ages 8-12 Love jigsaw puzzles? Compe
 te to see how fast you can put together a jigsaw puzzle. Compete in teams o
 r alone. First to put together their puzzle will win a prize!\nhttps://www.
 visitalpena.com/events/tween-puzzle-challenge/
URL:https://www.visitalpena.com/events/tween-puzzle-challenge/
END:VEVENT
END:VCALENDAR