BEGIN:VCALENDAR
VERSION:2.0
PRODID:-//eventon.com NONSGML v1.0//EN
CALSCALE:GREGORIAN
METHOD:PUBLISH
BEGIN:VEVENT
UID:69e7a1b7bbe98
DTSTAMP:20260421T161135Z
DTSTART:20250607T140000Z
DTEND:20250607T210000Z
LOCATION:Tractor Supply Company 310 N. Ripley Blvd.
SUMMARY:Tractor Supply Petting Zoo
DESCRIPTION:Petting zoo at Tractor Supply. Zoo&#8217;s Tasty Eatz food truc
 k will be on site.\nhttps://www.visitalpena.com/events/tractor-supply-petti
 ng-zoo/
URL:https://www.visitalpena.com/events/tractor-supply-petting-zoo/
END:VEVENT
END:VCALENDAR