BEGIN:VCALENDAR
VERSION:2.0
PRODID:-//eventon.com NONSGML v1.0//EN
CALSCALE:GREGORIAN
METHOD:PUBLISH
BEGIN:VEVENT
UID:69e75a0cb00d1
DTSTAMP:20260421T110548Z
DTSTART:20250913T170000Z
DTEND:20250913T210000Z
LOCATION:Sandbar &amp; Grill 9027 W Long Lake Rd\,  Alpena\,  MI 49707
SUMMARY:Cornhole Tournament
DESCRIPTION:End of summer cornhole tournament at The Sand Bar &amp; Grill! 
 $10 per player (You do NOT need a partner) Minimum 6 games 4 Round Robin in
 to Double Elimination Bracket (100% Payout)\nhttps://www.visitalpena.com/ev
 ents/cornhole-tournament/
URL:https://www.visitalpena.com/events/cornhole-tournament/
END:VEVENT
END:VCALENDAR