BEGIN:VCALENDAR
VERSION:2.0
PRODID:-//eventon.com NONSGML v1.0//EN
CALSCALE:GREGORIAN
METHOD:PUBLISH
BEGIN:VEVENT
UID:69e9f648e30a9
DTSTAMP:20260423T103656Z
DTSTART:20251108T220000Z
DTEND:20251109T010000Z
LOCATION:Island Park
SUMMARY:Magic in our Midst
DESCRIPTION:Magic in Our Midst\,  a magical event for children (ages 3-10 y
 ears old) and their families to meet the animals of the woods. Saturday eve
 ning\,  November 8th at Island Park in Alpena. Island Park is located at th
 e corner of US 23 and Long Rapids Road. Guided tours for a[..]\nhttps://www
 .visitalpena.com/events/magic-in-our-midst-2/
URL:https://www.visitalpena.com/events/magic-in-our-midst-2/
END:VEVENT
END:VCALENDAR