BEGIN:VCALENDAR
VERSION:2.0
PRODID:-//eventon.com NONSGML v1.0//EN
CALSCALE:GREGORIAN
METHOD:PUBLISH
BEGIN:VEVENT
UID:69e613374a941
DTSTAMP:20260420T115119Z
DTSTART:20260213T230000Z
DTEND:20260214T020000Z
LOCATION:Rusty Petunias Marketplace 123 W. Chisholm St.
SUMMARY:Galentine's Day
DESCRIPTION:Galentine’s Day: A Celebration of Women Galentine’s Day is 
 all about celebrating strong women\,  good vibes\,  and even better company
 . Join us for an empowering evening filled with connection\,  specialty coc
 ktails\,  and community. Boss Lady Gift Basket Giveaway You won’t enter y
 our own name—you’ll write the name of a woman[..]\nhttps://www.visitalp
 ena.com/events/galentines-day/
URL:https://www.visitalpena.com/events/galentines-day/
END:VEVENT
END:VCALENDAR