BEGIN:VCALENDAR
VERSION:2.0
PRODID:-//eventon.com NONSGML v1.0//EN
CALSCALE:GREGORIAN
METHOD:PUBLISH
BEGIN:VEVENT
UID:69e746d003aac
DTSTAMP:20260421T094344Z
DTSTART:20260313T220000Z
DTEND:20260313T230000Z
LOCATION:Joshua Tree Studio &amp; Spa 107 W. Chisholm St.
SUMMARY:Root & Womb Women's Meditation
DESCRIPTION:Join us for a deeply immersive women’s meditation experience 
 guided by the powerful and intuitive presence of Sol Rah Spirit. An evening
  to soften\,  release\,  and return home to yourself. Through the rhythmic 
 pulse of deep bass shamanic drumming\,  resonant sound healing\,  and lower
  chakra singing bowls\,  you’ll be gently[..]\nhttps://www.visitalpena.co
 m/events/root-womb-womens-meditation/
URL:https://www.visitalpena.com/events/root-womb-womens-meditation/
END:VEVENT
END:VCALENDAR