BEGIN:VCALENDAR
VERSION:2.0
PRODID:-//eventon.com NONSGML v1.0//EN
CALSCALE:GREGORIAN
METHOD:PUBLISH
BEGIN:VEVENT
UID:69e9f334afb5b
DTSTAMP:20260423T102348Z
DTSTART:20260628T160000Z
DTEND:20260628T210000Z
LOCATION:Shin-Ga-Ba Shores Ossineke Rd\,  Ossineke\,  MI 49766
SUMMARY:5th Annual NEMI Family Resource Center Carnival
DESCRIPTION:Come join us for a day of family fun! All proceeds benefit chil
 dren and families in our community. You can expect a day full of fun with o
 ver 15 games &amp; activities\,  raffles\,  music\,  food\,  treats\,  live
  performances\,  and so much more! The carnival starts at noon at Shin-Ga-B
 a shores[..]\nhttps://www.visitalpena.com/events/5th-annual-nemi-family-res
 ource-center-carnival/
URL:https://www.visitalpena.com/events/5th-annual-nemi-family-resource-center-carnival/
END:VEVENT
END:VCALENDAR