BEGIN:VCALENDAR
VERSION:2.0
PRODID:-//eventon.com NONSGML v1.0//EN
CALSCALE:GREGORIAN
METHOD:PUBLISH
BEGIN:VEVENT
UID:69eb75be20641
DTSTAMP:20260424T135302Z
DTSTART:20260613T220000Z
DTEND:20260614T010000Z
LOCATION:Bay View Park
SUMMARY:Summer Concert Series
DESCRIPTION:Dance through the summer at our free concerts at the Bay View P
 ark Band Shell in Alpena! Come out to see your favorites\,  and maybe somet
 hing new. This line-up has a lot for everyone\,  Rock\,  Pop\,  and Dance m
 usic. 2026 Summer Concert Series Lineup June 13: Vinyl Underground (6-9pm) 
 July[..]\nhttps://www.visitalpena.com/events/summer-concert-series/
URL:https://www.visitalpena.com/events/summer-concert-series/
END:VEVENT
END:VCALENDAR